BEGIN:VCALENDAR
VERSION:2.0
PRODID:-//LKN Magazine - ECPv6.15.17.1//NONSGML v1.0//EN
CALSCALE:GREGORIAN
METHOD:PUBLISH
X-WR-CALNAME:LKN Magazine
X-ORIGINAL-URL:https://lkn-magazine.com
X-WR-CALDESC:Events for LKN Magazine
REFRESH-INTERVAL;VALUE=DURATION:PT1H
X-Robots-Tag:noindex
X-PUBLISHED-TTL:PT1H
BEGIN:VTIMEZONE
TZID:America/New_York
BEGIN:DAYLIGHT
TZOFFSETFROM:-0500
TZOFFSETTO:-0400
TZNAME:EDT
DTSTART:20250309T070000
END:DAYLIGHT
BEGIN:STANDARD
TZOFFSETFROM:-0400
TZOFFSETTO:-0500
TZNAME:EST
DTSTART:20251102T060000
END:STANDARD
BEGIN:DAYLIGHT
TZOFFSETFROM:-0500
TZOFFSETTO:-0400
TZNAME:EDT
DTSTART:20260308T070000
END:DAYLIGHT
BEGIN:STANDARD
TZOFFSETFROM:-0400
TZOFFSETTO:-0500
TZNAME:EST
DTSTART:20261101T060000
END:STANDARD
BEGIN:DAYLIGHT
TZOFFSETFROM:-0500
TZOFFSETTO:-0400
TZNAME:EDT
DTSTART:20270314T070000
END:DAYLIGHT
BEGIN:STANDARD
TZOFFSETFROM:-0400
TZOFFSETTO:-0500
TZNAME:EST
DTSTART:20271107T060000
END:STANDARD
END:VTIMEZONE
BEGIN:VEVENT
DTSTART;TZID=America/New_York:20260425T100000
DTEND;TZID=America/New_York:20260425T170000
DTSTAMP:20260421T110258
CREATED:20260403T220833Z
LAST-MODIFIED:20260403T221834Z
UID:10003143-1777111200-1777136400@lkn-magazine.com
SUMMARY:SWEETBAY HOME AND GIFT 2ND BIRTHDAY
DESCRIPTION:Sweetbay Home and Gift. Celebrating our second birthday with a day of festivities! Stop by to enjoy local vendors\, giveaways\, raffles and tasty treats as we celebrate two wonderful years of home\, gifts and community.
URL:https://lkn-magazine.com/event/sweetbay-home-and-gift-2nd-birthday/
END:VEVENT
BEGIN:VEVENT
DTSTART;TZID=America/New_York:20260425T143000
DTEND;TZID=America/New_York:20260425T170000
DTSTAMP:20260421T110258
CREATED:20260403T221940Z
LAST-MODIFIED:20260403T221940Z
UID:10003144-1777127400-1777136400@lkn-magazine.com
SUMMARY:FLOWER FARM FLOWER PARTY
DESCRIPTION:The Blossomist and Blossom and Branch Flower Farm host a one-of-a-kind Flower Party 2:30–5pm. Learn to create your own floral arrangement using flowers grown right on the farm\, plus enjoy a guided tour. All supplies included no experience needed. $85/person; space limited. Sign up: theblossomistnc.com. Located in Maiden\, NC (about 30 minutes from Mooresville).
URL:https://lkn-magazine.com/event/flower-farm-flower-party/
LOCATION:Located in Maiden\, N
END:VEVENT
END:VCALENDAR