BEGIN:VCALENDAR
VERSION:2.0
PRODID:-//LKN Magazine - ECPv6.15.17.1//NONSGML v1.0//EN
CALSCALE:GREGORIAN
METHOD:PUBLISH
X-ORIGINAL-URL:https://lkn-magazine.com
X-WR-CALDESC:Events for LKN Magazine
REFRESH-INTERVAL;VALUE=DURATION:PT1H
X-Robots-Tag:noindex
X-PUBLISHED-TTL:PT1H
BEGIN:VTIMEZONE
TZID:America/New_York
BEGIN:DAYLIGHT
TZOFFSETFROM:-0500
TZOFFSETTO:-0400
TZNAME:EDT
DTSTART:20250309T070000
END:DAYLIGHT
BEGIN:STANDARD
TZOFFSETFROM:-0400
TZOFFSETTO:-0500
TZNAME:EST
DTSTART:20251102T060000
END:STANDARD
BEGIN:DAYLIGHT
TZOFFSETFROM:-0500
TZOFFSETTO:-0400
TZNAME:EDT
DTSTART:20260308T070000
END:DAYLIGHT
BEGIN:STANDARD
TZOFFSETFROM:-0400
TZOFFSETTO:-0500
TZNAME:EST
DTSTART:20261101T060000
END:STANDARD
BEGIN:DAYLIGHT
TZOFFSETFROM:-0500
TZOFFSETTO:-0400
TZNAME:EDT
DTSTART:20270314T070000
END:DAYLIGHT
BEGIN:STANDARD
TZOFFSETFROM:-0400
TZOFFSETTO:-0500
TZNAME:EST
DTSTART:20271107T060000
END:STANDARD
END:VTIMEZONE
BEGIN:VEVENT
DTSTART;VALUE=DATE:20260326
DTEND;VALUE=DATE:20260328
DTSTAMP:20260421T060134
CREATED:20260304T152153Z
LAST-MODIFIED:20260304T152153Z
UID:10003124-1774483200-1774655999@lkn-magazine.com
SUMMARY:Michou Designer Trunk Show
DESCRIPTION:Come meet the designer and owner of Michou\, unique and colorful gemstone jewelry\, for two days only!
URL:https://lkn-magazine.com/event/michou-designer-trunk-show/
LOCATION:Dana’s Fine Jewelry\, 108 n. main avenue\, newton\, 28658
ATTACH;FMTTYPE=image/png:https://lkn-magazine.com/wp-content/uploads/2026/03/Unknown.png
END:VEVENT
BEGIN:VEVENT
DTSTART;TZID=America/New_York:20260328T100000
DTEND;TZID=America/New_York:20260328T120000
DTSTAMP:20260421T060134
CREATED:20260312T164852Z
LAST-MODIFIED:20260312T164852Z
UID:10003125-1774692000-1774699200@lkn-magazine.com
SUMMARY:Bethel Church -- Easter Eggstravaganza
DESCRIPTION:10am-12pm\, 19920 Bethel Church Road in Cornelius. Join us for our Easter Eggstravaganza! Bring the whole family for a fun-filled morning with an Easter egg hunt\, crafts for kids\, face painting\, inflatables and games. This free community event is a wonderful way to celebrate the season and spend time with family and friends. JOY Coffee Truck will be on site with delicious drinks available for purchase. Bring your family\, invite a friend and come fellowship with us – we can’t wait to see you!
URL:https://lkn-magazine.com/event/bethel-church-easter-eggstravaganza/
LOCATION:Bethel Presbyterian Church\, 19920 Bethel Chiurch Road\, Cornelius\, 28031
END:VEVENT
END:VCALENDAR